BEGIN:VCALENDAR
VERSION:2.0
PRODID:-//wp-events-plugin.com//7.2.3.1//EN
BEGIN:VEVENT
UID:101@tz-stgeorgen.de
DTSTART;TZID=Europe/Berlin:20260508T090000
DTEND;TZID=Europe/Berlin:20260508T180000
DTSTAMP:20260115T182819Z
URL:https://tz-stgeorgen.de/events/innovation-lab-mit-studenten-der-region
 alen-hochschulen-3/
SUMMARY:Innovation Lab mit Studenten der regionalen Hochschulen
DESCRIPTION:Das Innovation Lab ist eine von der PE-Stiftung geförderte\, v
 om TZ organisierte und von Ursula Schulz (Team Schulz) und Jana Tisch (bwc
 on) durchgeführte kostenlose Aus- und Weiterbildungsveranstaltung speziel
 l für bis zu 20 gründungsinteressierte Studenten der regionalen Hochschu
 len. Das Innovation Lab wird einmal pro Semenster durchgeführt. Teilnehme
 nde Studenten der Hochschule Furtwangen erhalten für die Teilnahme 3 Cred
 itpoints. Jedes Innovation Lab beinhaltet 6 Workshops und einen abschließ
 enden Pitch vor einer Jury bestehend aus regionalen Unternehmer*innen und 
 Vertreter*innen der regionalen Hochschulen. Interessiert? Dann meldet Euch
  entweder telefonisch (07724/9494-74) oder per Email (info@pe-stgeorgen.de
 ) bei uns an.
END:VEVENT
BEGIN:VTIMEZONE
TZID:Europe/Berlin
X-LIC-LOCATION:Europe/Berlin
BEGIN:DAYLIGHT
DTSTART:20260329T030000
TZOFFSETFROM:+0100
TZOFFSETTO:+0200
TZNAME:CEST
END:DAYLIGHT
END:VTIMEZONE
END:VCALENDAR