BEGIN:VCALENDAR
VERSION:2.0
PRODID:-//wp-events-plugin.com//7.2.3.1//EN
BEGIN:VEVENT
UID:64@tz-stgeorgen.de
DTSTART;TZID=Europe/Berlin:20260522T133000
DTEND;TZID=Europe/Berlin:20260522T153000
DTSTAMP:20260115T171715Z
URL:https://tz-stgeorgen.de/events/robotik-ag-mit-schulern-der-5-7-klasse-
 des-thomas-strittmatter-gymnasiums-14/
SUMMARY:Robotik AG mit Schülern der 5.-7. Klasse des Thomas-Strittmatter-G
 ymnasiums
DESCRIPTION:Das TZ organisiert und betreut eine wöchentlich stattfindende 
 Robotik AG im TZ-Campus für bis zu 22 Schüler der 5.-7. Klasse des Thoma
 s-Strittmatter-Gymnasiums (TSG). Die Betreuung erfolgt gemeinsam mit Lehrk
 räften des TSG sowie Auszubildenden und Werkstudenten der drei Firmenpart
 ner Wiha Werkzeuge GmbH\, SCHUNK Electronic Solutions GmbH und ebm-papst S
 t. Georgen GmbH &amp\; Co. KG. Bei der Robotik AG kommt Fischertechnik zum
  Einsatz. Im Vordergrund soll für die teilnehmenden Schüler*innen der Sp
 aß an der Technik stehen. Mit der Robotik AG soll das weitere Interesse a
 n Konstruktion und Programmierung der Schüler*innen und ihr grundsätzlic
 he Begeisterung an MINT-Fächern gefördert werden.
CATEGORIES:Robotik AG
END:VEVENT
BEGIN:VTIMEZONE
TZID:Europe/Berlin
X-LIC-LOCATION:Europe/Berlin
BEGIN:DAYLIGHT
DTSTART:20260329T030000
TZOFFSETFROM:+0100
TZOFFSETTO:+0200
TZNAME:CEST
END:DAYLIGHT
END:VTIMEZONE
END:VCALENDAR